BEGIN:VCALENDAR
VERSION:2.0
PRODID:-//Dispute Resolution Center of King County - ECPv6.15.20//NONSGML v1.0//EN
CALSCALE:GREGORIAN
METHOD:PUBLISH
X-ORIGINAL-URL:https://kcdrc.org
X-WR-CALDESC:Events for Dispute Resolution Center of King County
REFRESH-INTERVAL;VALUE=DURATION:PT1H
X-Robots-Tag:noindex
X-PUBLISHED-TTL:PT1H
BEGIN:VTIMEZONE
TZID:America/Los_Angeles
BEGIN:DAYLIGHT
TZOFFSETFROM:-0800
TZOFFSETTO:-0700
TZNAME:PDT
DTSTART:20250309T100000
END:DAYLIGHT
BEGIN:STANDARD
TZOFFSETFROM:-0700
TZOFFSETTO:-0800
TZNAME:PST
DTSTART:20251102T090000
END:STANDARD
BEGIN:DAYLIGHT
TZOFFSETFROM:-0800
TZOFFSETTO:-0700
TZNAME:PDT
DTSTART:20260308T100000
END:DAYLIGHT
BEGIN:STANDARD
TZOFFSETFROM:-0700
TZOFFSETTO:-0800
TZNAME:PST
DTSTART:20261101T090000
END:STANDARD
BEGIN:DAYLIGHT
TZOFFSETFROM:-0800
TZOFFSETTO:-0700
TZNAME:PDT
DTSTART:20270314T100000
END:DAYLIGHT
BEGIN:STANDARD
TZOFFSETFROM:-0700
TZOFFSETTO:-0800
TZNAME:PST
DTSTART:20271107T090000
END:STANDARD
END:VTIMEZONE
BEGIN:VEVENT
DTSTART;TZID=America/Los_Angeles:20260204T130000
DTEND;TZID=America/Los_Angeles:20260204T170000
DTSTAMP:20260424T092616
CREATED:20251209T205332Z
LAST-MODIFIED:20251209T205332Z
UID:10000114-1770210000-1770224400@kcdrc.org
SUMMARY:CoRE™ Orientation
DESCRIPTION:Visit our Learning Portal for more information/registration. \nIf you already hold a BMT Certificate from another program\, join us for a 1-day orientation designed to familiarize you with the unique aspects of the CoRE™ approach. This session will help you integrate your existing skills with CoRE™ methods and practices.
URL:https://kcdrc.org/event/core-orientation/
CATEGORIES:Learning
ATTACH;FMTTYPE=image/png:https://kcdrc.org/wp-content/uploads/2024/08/CoRE-Logo.png
END:VEVENT
BEGIN:VEVENT
DTSTART;TZID=America/Los_Angeles:20260211T090000
DTEND;TZID=America/Los_Angeles:20260211T180000
DTSTAMP:20260424T092616
CREATED:20251209T210232Z
LAST-MODIFIED:20251209T210232Z
UID:10000115-1770800400-1770832800@kcdrc.org
SUMMARY:Advanced Mediation Topic Series
DESCRIPTION:Visit our learning portal for more information/registration. \nPrerequisites: Completion of CoRE™ or CoRE™ orientation \nTake the next step in your conflict management journey with our Advanced Topics Series. Designed for those looking to deepen their mediation skills\, become a certified mediator\, or expand their volunteer opportunities with KCDRC\, this multi-part series offers in-depth training on advanced mediation topics. Participants will gain additional practice through roleplays\, experiencing both the mediator and party perspectives\, and build confidence in applying complex techniques in real-world scenarios. \n\n(Virtual – On Zoom) \n3-day Facilitative Mediation training and practice. \n\nDay 1: Wednesday\, February 11 – 9am-6pm\n\nTopics: Observation & Debrief; Managing the Process; Caucus\n\n\nDay 2: Wednesday\, February 18 – 9am-6pm\n\nTopics: Managing Emotions; Co-Mediation; Working with Interpreters\n\n\nDay 3: Wednesday\, February 25 – 9am-6pm\n\nTopics: Supporting Negotiation; Agreement Writing & Durability; Shuttle
URL:https://kcdrc.org/event/advanced-mediation-topic-series/
CATEGORIES:Learning
ATTACH;FMTTYPE=application/pdf:https://kcdrc.org/wp-content/uploads/2025/12/Untitled-design-1.pdf
END:VEVENT
BEGIN:VEVENT
DTSTART;TZID=America/Los_Angeles:20260218T090000
DTEND;TZID=America/Los_Angeles:20260218T180000
DTSTAMP:20260424T092616
CREATED:20251209T210501Z
LAST-MODIFIED:20251209T210501Z
UID:10000117-1771405200-1771437600@kcdrc.org
SUMMARY:Advanced Mediation Topic Series
DESCRIPTION:Visit our learning portal for more information/registration. \nPrerequisites: Completion of CoRE™ or CoRE™ orientation \nTake the next step in your conflict management journey with our Advanced Topics Series. Designed for those looking to deepen their mediation skills\, become a certified mediator\, or expand their volunteer opportunities with KCDRC\, this multi-part series offers in-depth training on advanced mediation topics. Participants will gain additional practice through roleplays\, experiencing both the mediator and party perspectives\, and build confidence in applying complex techniques in real-world scenarios. \n(Virtual – On Zoom) \n3-day Facilitative Mediation training and practice. \n\nDay 1: Wednesday\, February 11 – 9am-6pm\n\nTopics: Observation & Debrief; Managing the Process; Caucus\n\n\nDay 2: Wednesday\, February 18 – 9am-6pm\n\nTopics: Managing Emotions; Co-Mediation; Working with Interpreters\n\n\nDay 3: Wednesday\, February 25 – 9am-6pm\n\nTopics: Supporting Negotiation; Agreement Writing & Durability; Shuttle
URL:https://kcdrc.org/event/advanced-mediation-topic-series-2/
CATEGORIES:Learning
ATTACH;FMTTYPE=application/pdf:https://kcdrc.org/wp-content/uploads/2025/12/Untitled-design-1.pdf
END:VEVENT
BEGIN:VEVENT
DTSTART;TZID=America/Los_Angeles:20260225T090000
DTEND;TZID=America/Los_Angeles:20260225T180000
DTSTAMP:20260424T092616
CREATED:20251209T210534Z
LAST-MODIFIED:20251209T210534Z
UID:10000118-1772010000-1772042400@kcdrc.org
SUMMARY:Advanced Mediation Topic Series
DESCRIPTION:Visit our learning portal for more information/registration. \nPrerequisites: Completion of CoRE™ or CoRE™ orientation \nTake the next step in your conflict management journey with our Advanced Topics Series. Designed for those looking to deepen their mediation skills\, become a certified mediator\, or expand their volunteer opportunities with KCDRC\, this multi-part series offers in-depth training on advanced mediation topics. Participants will gain additional practice through roleplays\, experiencing both the mediator and party perspectives\, and build confidence in applying complex techniques in real-world scenarios. \n(Virtual – On Zoom) \n3-day Facilitative Mediation training and practice. \n\nDay 1: Wednesday\, February 11 – 9am-6pm\n\nTopics: Observation & Debrief; Managing the Process; Caucus\n\n\nDay 2: Wednesday\, February 18 – 9am-6pm\n\nTopics: Managing Emotions; Co-Mediation; Working with Interpreters\n\n\nDay 3: Wednesday\, February 25 – 9am-6pm\n\nTopics: Supporting Negotiation; Agreement Writing & Durability; Shuttle
URL:https://kcdrc.org/event/advanced-mediation-topic-series-3/
CATEGORIES:Learning
ATTACH;FMTTYPE=application/pdf:https://kcdrc.org/wp-content/uploads/2025/12/Untitled-design-1.pdf
END:VEVENT
END:VCALENDAR