BEGIN:VCALENDAR
VERSION:2.0
PRODID:-//Dispute Resolution Center of King County - ECPv6.15.20//NONSGML v1.0//EN
CALSCALE:GREGORIAN
METHOD:PUBLISH
X-ORIGINAL-URL:https://kcdrc.org
X-WR-CALDESC:Events for Dispute Resolution Center of King County
REFRESH-INTERVAL;VALUE=DURATION:PT1H
X-Robots-Tag:noindex
X-PUBLISHED-TTL:PT1H
BEGIN:VTIMEZONE
TZID:America/Los_Angeles
BEGIN:DAYLIGHT
TZOFFSETFROM:-0800
TZOFFSETTO:-0700
TZNAME:PDT
DTSTART:20250309T100000
END:DAYLIGHT
BEGIN:STANDARD
TZOFFSETFROM:-0700
TZOFFSETTO:-0800
TZNAME:PST
DTSTART:20251102T090000
END:STANDARD
BEGIN:DAYLIGHT
TZOFFSETFROM:-0800
TZOFFSETTO:-0700
TZNAME:PDT
DTSTART:20260308T100000
END:DAYLIGHT
BEGIN:STANDARD
TZOFFSETFROM:-0700
TZOFFSETTO:-0800
TZNAME:PST
DTSTART:20261101T090000
END:STANDARD
BEGIN:DAYLIGHT
TZOFFSETFROM:-0800
TZOFFSETTO:-0700
TZNAME:PDT
DTSTART:20270314T100000
END:DAYLIGHT
BEGIN:STANDARD
TZOFFSETFROM:-0700
TZOFFSETTO:-0800
TZNAME:PST
DTSTART:20271107T090000
END:STANDARD
END:VTIMEZONE
BEGIN:VEVENT
DTSTART;TZID=America/Los_Angeles:20260312T133000
DTEND;TZID=America/Los_Angeles:20260312T150000
DTSTAMP:20260423T162801
CREATED:20260305T174401Z
LAST-MODIFIED:20260305T174401Z
UID:10000127-1773322200-1773327600@kcdrc.org
SUMMARY:HOMES: Presentation
DESCRIPTION:Come learn about property tax exemptions available to seniors\, veterans\, and people with disabilities. This session will cover income limits\, eligibility requirements\, how exemptions can reduce your property taxes\, and the application process.
URL:https://kcdrc.org/event/homes-presentation-5/
LOCATION:SouthEast Seattle Senior Center\, 4655 South Holly St\, Seattle\, WA\, 98118\, United States
CATEGORIES:Community,Housing
ATTACH;FMTTYPE=image/png:https://kcdrc.org/wp-content/uploads/2025/05/Untitled-design-17-e1767730145123.png
END:VEVENT
END:VCALENDAR