BEGIN:VCALENDAR
VERSION:2.0
PRODID:-//Dispute Resolution Center of King County - ECPv6.15.20//NONSGML v1.0//EN
CALSCALE:GREGORIAN
METHOD:PUBLISH
X-ORIGINAL-URL:https://kcdrc.org
X-WR-CALDESC:Events for Dispute Resolution Center of King County
REFRESH-INTERVAL;VALUE=DURATION:PT1H
X-Robots-Tag:noindex
X-PUBLISHED-TTL:PT1H
BEGIN:VTIMEZONE
TZID:America/Los_Angeles
BEGIN:DAYLIGHT
TZOFFSETFROM:-0800
TZOFFSETTO:-0700
TZNAME:PDT
DTSTART:20240310T100000
END:DAYLIGHT
BEGIN:STANDARD
TZOFFSETFROM:-0700
TZOFFSETTO:-0800
TZNAME:PST
DTSTART:20241103T090000
END:STANDARD
BEGIN:DAYLIGHT
TZOFFSETFROM:-0800
TZOFFSETTO:-0700
TZNAME:PDT
DTSTART:20250309T100000
END:DAYLIGHT
BEGIN:STANDARD
TZOFFSETFROM:-0700
TZOFFSETTO:-0800
TZNAME:PST
DTSTART:20251102T090000
END:STANDARD
BEGIN:DAYLIGHT
TZOFFSETFROM:-0800
TZOFFSETTO:-0700
TZNAME:PDT
DTSTART:20260308T100000
END:DAYLIGHT
BEGIN:STANDARD
TZOFFSETFROM:-0700
TZOFFSETTO:-0800
TZNAME:PST
DTSTART:20261101T090000
END:STANDARD
BEGIN:DAYLIGHT
TZOFFSETFROM:-0800
TZOFFSETTO:-0700
TZNAME:PDT
DTSTART:20270314T100000
END:DAYLIGHT
BEGIN:STANDARD
TZOFFSETFROM:-0700
TZOFFSETTO:-0800
TZNAME:PST
DTSTART:20271107T090000
END:STANDARD
END:VTIMEZONE
BEGIN:VEVENT
DTSTART;TZID=America/Los_Angeles:20260422T090000
DTEND;TZID=America/Los_Angeles:20260422T140000
DTSTAMP:20260424T161014
CREATED:20260318T190340Z
LAST-MODIFIED:20260318T190340Z
UID:10000134-1776848400-1776866400@kcdrc.org
SUMMARY:CoRE™ Part A: YMCA (Closed Training)
DESCRIPTION:This CoRE Part A training is being hosted in partnership with a specific organization and is not open to the general public. \nParticipants build foundational mediation and conflict resolution skills through interactive practice\, reflection\, and facilitated discussion. \nKey topics include: \n\ncareful observation\nreflective practice\ngiving and receiving feedback\nintentional listening\nunderstanding conflict styles\nissue identification\, reframing\ndistributive and integrative bargaining in negotiation\nempathy in negotiation\n\n  \nVisit our Learning Portal for more information or registration options for upcoming public trainings. If you are part of an organization interested in hosting a training\, please inquire with us about training opportunities.
URL:https://kcdrc.org/event/core-part-a-ymca-closed-training-3/
CATEGORIES:Learning
ATTACH;FMTTYPE=image/png:https://kcdrc.org/wp-content/uploads/2024/08/CoRE-Logo.png
END:VEVENT
BEGIN:VEVENT
DTSTART;TZID=America/Los_Angeles:20260408T100000
DTEND;TZID=America/Los_Angeles:20260408T131500
DTSTAMP:20260424T161014
CREATED:20260318T185936Z
LAST-MODIFIED:20260318T185936Z
UID:10000132-1775642400-1775654100@kcdrc.org
SUMMARY:CoRE™ Part A: YMCA (Closed Training)
DESCRIPTION:This CoRE Part A training is being hosted in partnership with a specific organization and is not open to the general public. \nParticipants build foundational mediation and conflict resolution skills through interactive practice\, reflection\, and facilitated discussion. \nKey topics include: \n\ncareful observation\nreflective practice\ngiving and receiving feedback\nintentional listening\nunderstanding conflict styles\nissue identification\, reframing\ndistributive and integrative bargaining in negotiation\nempathy in negotiation\n\n  \nVisit our Learning Portal for more information or registration options for upcoming public trainings. If you are part of an organization interested in hosting a training\, please inquire with us about training opportunities.
URL:https://kcdrc.org/event/core-part-a-ymca-closed-training-2/
CATEGORIES:Learning
ATTACH;FMTTYPE=image/png:https://kcdrc.org/wp-content/uploads/2024/08/CoRE-Logo.png
END:VEVENT
BEGIN:VEVENT
DTSTART;TZID=America/Los_Angeles:20260401T100000
DTEND;TZID=America/Los_Angeles:20260401T131500
DTSTAMP:20260424T161014
CREATED:20260318T185853Z
LAST-MODIFIED:20260318T185853Z
UID:10000131-1775037600-1775049300@kcdrc.org
SUMMARY:CoRE™ Part A: YMCA (Closed Training)
DESCRIPTION:This CoRE Part A training is being hosted in partnership with a specific organization and is not open to the general public. \nParticipants build foundational mediation and conflict resolution skills through interactive practice\, reflection\, and facilitated discussion. \nKey topics include: \n\ncareful observation\nreflective practice\ngiving and receiving feedback\nintentional listening\nunderstanding conflict styles\nissue identification\, reframing\ndistributive and integrative bargaining in negotiation\nempathy in negotiation\n\n  \nVisit our Learning Portal for more information or registration options for upcoming public trainings. If you are part of an organization interested in hosting a training\, please inquire with us about training opportunities.
URL:https://kcdrc.org/event/core-part-a-ymca-closed-training/
CATEGORIES:Learning
ATTACH;FMTTYPE=image/png:https://kcdrc.org/wp-content/uploads/2024/08/CoRE-Logo.png
END:VEVENT
BEGIN:VEVENT
DTSTART;TZID=America/Los_Angeles:20260331T103000
DTEND;TZID=America/Los_Angeles:20260331T120000
DTSTAMP:20260424T161014
CREATED:20260318T185644Z
LAST-MODIFIED:20260318T185644Z
UID:10000130-1774953000-1774958400@kcdrc.org
SUMMARY:CoRE™ Part A: Bellwether (Closed Training)
DESCRIPTION:This CoRE Part A training is being hosted in partnership with a specific organization and is not open to the general public. \nParticipants build foundational mediation and conflict resolution skills through interactive practice\, reflection\, and facilitated discussion. \nKey topics include: \n\ncareful observation\nreflective practice\ngiving and receiving feedback\nintentional listening\nunderstanding conflict styles\nissue identification\, reframing\ndistributive and integrative bargaining in negotiation\nempathy in negotiation\n\n  \nVisit our Learning Portal for more information or registration options for upcoming public trainings. If you are part of an organization interested in hosting a training\, please inquire with us about training opportunities.
URL:https://kcdrc.org/event/core-part-a-bellwether-closed-training-2/
CATEGORIES:Learning
ATTACH;FMTTYPE=image/png:https://kcdrc.org/wp-content/uploads/2024/08/CoRE-Logo.png
END:VEVENT
BEGIN:VEVENT
DTSTART;TZID=America/Los_Angeles:20260325T090000
DTEND;TZID=America/Los_Angeles:20260325T170000
DTSTAMP:20260424T161014
CREATED:20251209T210947Z
LAST-MODIFIED:20251209T210947Z
UID:10000120-1774429200-1774458000@kcdrc.org
SUMMARY:Small Claims Program Training
DESCRIPTION:Visit our learning portal for more information/registration. \nPrerequisites: Successful Completion of an Advanced Mock Mediation (Scheduled between February 25 and March 18) \n2-day Small Claims Mediation training and practice. \n\nDay 1: Wednesday\, March 18 – 9am-5pm\nDay 2: Wednesday\, March 25 – 9am-5pm
URL:https://kcdrc.org/event/small-claims-program-training-2/
CATEGORIES:Learning
ATTACH;FMTTYPE=application/pdf:https://kcdrc.org/wp-content/uploads/2025/12/Untitled-design-1.pdf
END:VEVENT
BEGIN:VEVENT
DTSTART;TZID=America/Los_Angeles:20260319T103000
DTEND;TZID=America/Los_Angeles:20260319T120000
DTSTAMP:20260424T161014
CREATED:20260318T185502Z
LAST-MODIFIED:20260318T185502Z
UID:10000129-1773916200-1773921600@kcdrc.org
SUMMARY:CoRE™ Part A: Bellwether (Closed Training)
DESCRIPTION:This CoRE Part A training is being hosted in partnership with a specific organization and is not open to the general public. \n\nParticipants build foundational mediation and conflict resolution skills through interactive practice\, reflection\, and facilitated discussion. \nKey topics include: \n\ncareful observation\nreflective practice\ngiving and receiving feedback\nintentional listening\nunderstanding conflict styles\nissue identification\, reframing\ndistributive and integrative bargaining in negotiation\nempathy in negotiation\n\n  \nVisit our Learning Portal for more information or registration options for upcoming public trainings. If you are part of an organization interested in hosting a training\, please inquire with us about training opportunities.
URL:https://kcdrc.org/event/core-part-a-bellwether-closed-training/
CATEGORIES:Learning
ATTACH;FMTTYPE=image/png:https://kcdrc.org/wp-content/uploads/2024/08/CoRE-Logo.png
END:VEVENT
BEGIN:VEVENT
DTSTART;TZID=America/Los_Angeles:20260318T090000
DTEND;TZID=America/Los_Angeles:20260318T170000
DTSTAMP:20260424T161014
CREATED:20251209T210902Z
LAST-MODIFIED:20251209T210902Z
UID:10000119-1773824400-1773853200@kcdrc.org
SUMMARY:Small Claims Program Training
DESCRIPTION:Visit our learning portal for more information/registration. \nPrerequisites: Successful Completion of an Advanced Mock Mediation (Scheduled between February 25 and March 18) \n2-day Small Claims Mediation training and practice. \n\nDay 1: Wednesday\, March 18 – 9am-5pm\nDay 2: Wednesday\, March 25 – 9am-5pm
URL:https://kcdrc.org/event/small-claims-program-training/
CATEGORIES:Learning
ATTACH;FMTTYPE=application/pdf:https://kcdrc.org/wp-content/uploads/2025/12/Untitled-design-1.pdf
END:VEVENT
BEGIN:VEVENT
DTSTART;TZID=America/Los_Angeles:20260225T090000
DTEND;TZID=America/Los_Angeles:20260225T180000
DTSTAMP:20260424T161014
CREATED:20251209T210534Z
LAST-MODIFIED:20251209T210534Z
UID:10000118-1772010000-1772042400@kcdrc.org
SUMMARY:Advanced Mediation Topic Series
DESCRIPTION:Visit our learning portal for more information/registration. \nPrerequisites: Completion of CoRE™ or CoRE™ orientation \nTake the next step in your conflict management journey with our Advanced Topics Series. Designed for those looking to deepen their mediation skills\, become a certified mediator\, or expand their volunteer opportunities with KCDRC\, this multi-part series offers in-depth training on advanced mediation topics. Participants will gain additional practice through roleplays\, experiencing both the mediator and party perspectives\, and build confidence in applying complex techniques in real-world scenarios. \n(Virtual – On Zoom) \n3-day Facilitative Mediation training and practice. \n\nDay 1: Wednesday\, February 11 – 9am-6pm\n\nTopics: Observation & Debrief; Managing the Process; Caucus\n\n\nDay 2: Wednesday\, February 18 – 9am-6pm\n\nTopics: Managing Emotions; Co-Mediation; Working with Interpreters\n\n\nDay 3: Wednesday\, February 25 – 9am-6pm\n\nTopics: Supporting Negotiation; Agreement Writing & Durability; Shuttle
URL:https://kcdrc.org/event/advanced-mediation-topic-series-3/
CATEGORIES:Learning
ATTACH;FMTTYPE=application/pdf:https://kcdrc.org/wp-content/uploads/2025/12/Untitled-design-1.pdf
END:VEVENT
BEGIN:VEVENT
DTSTART;TZID=America/Los_Angeles:20260218T090000
DTEND;TZID=America/Los_Angeles:20260218T180000
DTSTAMP:20260424T161014
CREATED:20251209T210501Z
LAST-MODIFIED:20251209T210501Z
UID:10000117-1771405200-1771437600@kcdrc.org
SUMMARY:Advanced Mediation Topic Series
DESCRIPTION:Visit our learning portal for more information/registration. \nPrerequisites: Completion of CoRE™ or CoRE™ orientation \nTake the next step in your conflict management journey with our Advanced Topics Series. Designed for those looking to deepen their mediation skills\, become a certified mediator\, or expand their volunteer opportunities with KCDRC\, this multi-part series offers in-depth training on advanced mediation topics. Participants will gain additional practice through roleplays\, experiencing both the mediator and party perspectives\, and build confidence in applying complex techniques in real-world scenarios. \n(Virtual – On Zoom) \n3-day Facilitative Mediation training and practice. \n\nDay 1: Wednesday\, February 11 – 9am-6pm\n\nTopics: Observation & Debrief; Managing the Process; Caucus\n\n\nDay 2: Wednesday\, February 18 – 9am-6pm\n\nTopics: Managing Emotions; Co-Mediation; Working with Interpreters\n\n\nDay 3: Wednesday\, February 25 – 9am-6pm\n\nTopics: Supporting Negotiation; Agreement Writing & Durability; Shuttle
URL:https://kcdrc.org/event/advanced-mediation-topic-series-2/
CATEGORIES:Learning
ATTACH;FMTTYPE=application/pdf:https://kcdrc.org/wp-content/uploads/2025/12/Untitled-design-1.pdf
END:VEVENT
BEGIN:VEVENT
DTSTART;TZID=America/Los_Angeles:20260211T090000
DTEND;TZID=America/Los_Angeles:20260211T180000
DTSTAMP:20260424T161014
CREATED:20251209T210232Z
LAST-MODIFIED:20251209T210232Z
UID:10000115-1770800400-1770832800@kcdrc.org
SUMMARY:Advanced Mediation Topic Series
DESCRIPTION:Visit our learning portal for more information/registration. \nPrerequisites: Completion of CoRE™ or CoRE™ orientation \nTake the next step in your conflict management journey with our Advanced Topics Series. Designed for those looking to deepen their mediation skills\, become a certified mediator\, or expand their volunteer opportunities with KCDRC\, this multi-part series offers in-depth training on advanced mediation topics. Participants will gain additional practice through roleplays\, experiencing both the mediator and party perspectives\, and build confidence in applying complex techniques in real-world scenarios. \n\n(Virtual – On Zoom) \n3-day Facilitative Mediation training and practice. \n\nDay 1: Wednesday\, February 11 – 9am-6pm\n\nTopics: Observation & Debrief; Managing the Process; Caucus\n\n\nDay 2: Wednesday\, February 18 – 9am-6pm\n\nTopics: Managing Emotions; Co-Mediation; Working with Interpreters\n\n\nDay 3: Wednesday\, February 25 – 9am-6pm\n\nTopics: Supporting Negotiation; Agreement Writing & Durability; Shuttle
URL:https://kcdrc.org/event/advanced-mediation-topic-series/
CATEGORIES:Learning
ATTACH;FMTTYPE=application/pdf:https://kcdrc.org/wp-content/uploads/2025/12/Untitled-design-1.pdf
END:VEVENT
BEGIN:VEVENT
DTSTART;TZID=America/Los_Angeles:20260204T130000
DTEND;TZID=America/Los_Angeles:20260204T170000
DTSTAMP:20260424T161015
CREATED:20251209T205332Z
LAST-MODIFIED:20251209T205332Z
UID:10000114-1770210000-1770224400@kcdrc.org
SUMMARY:CoRE™ Orientation
DESCRIPTION:Visit our Learning Portal for more information/registration. \nIf you already hold a BMT Certificate from another program\, join us for a 1-day orientation designed to familiarize you with the unique aspects of the CoRE™ approach. This session will help you integrate your existing skills with CoRE™ methods and practices.
URL:https://kcdrc.org/event/core-orientation/
CATEGORIES:Learning
ATTACH;FMTTYPE=image/png:https://kcdrc.org/wp-content/uploads/2024/08/CoRE-Logo.png
END:VEVENT
BEGIN:VEVENT
DTSTART;TZID=America/Los_Angeles:20260107T090000
DTEND;TZID=America/Los_Angeles:20260109T180000
DTSTAMP:20260424T161015
CREATED:20251105T172038Z
LAST-MODIFIED:20251105T172038Z
UID:10000113-1767776400-1767981600@kcdrc.org
SUMMARY:CoRE™ Part B: A Mediation Process
DESCRIPTION:Visit our Learning Portal for more information/registration. \nWe are excited to invite learners to come to our first in-person\, full CoRE training experience at our new offices in Downtown Seattle (The Medical-Dental Building). Each day there will be a 1-hour lunch break\, with shorter breaks throughout. Lunch\, transportation and/or parking are the responsibility of each participant. \nPrerequisites: All 10 Part A Sessions \nPart B: Wednesday-Friday: January 7\, 8\, and 9 \n\n9am-6pm\, each day\n3-day Facilitative Mediation training and practice.
URL:https://kcdrc.org/event/core-part-b-a-mediation-process/
LOCATION:Medical Dental Building\, 509 Olive Way\, Seattle\, WA\, 98101-1729\, United States
CATEGORIES:Learning
ATTACH;FMTTYPE=image/png:https://kcdrc.org/wp-content/uploads/2024/08/CoRE-Logo.png
END:VEVENT
BEGIN:VEVENT
DTSTART;TZID=America/Los_Angeles:20260105T090000
DTEND;TZID=America/Los_Angeles:20260106T180000
DTSTAMP:20260424T161015
CREATED:20251105T171122Z
LAST-MODIFIED:20251105T171122Z
UID:10000112-1767603600-1767722400@kcdrc.org
SUMMARY:CoRE™ Part A: Conflict Resolution Skills
DESCRIPTION:Visit our Learning Portal for more information/registration. \nWe are excited to invite learners to come to our first in-person\, full CoRE training experience at our new offices in Downtown Seattle (The Medical-Dental Building). Each day there will be a 1-hour lunch break\, with shorter breaks throughout.\n \nLunch\, transportation and/or parking are the responsibility of each participant. \nPart A: Monday\, January 5\, 2026 — 9am–6pm \n\nCareful Observation – “What Do I Notice?”\nReflective Practice – “How Did I Do?”\nGiving and Receiving Feedback – “How Can We Help?”\nIntentional Listening – “What Did You Tell Me?”\nConflict Styles – “How Do We Disagree?”\n\n  \nPart A\, continued: Tuesday\, January 6\, 2026 — 9am–6pm \n\nIssue Identification – “What’s Our Problem?”\nReframing – “What Does That Mean?”\nDistributive Bargaining in Negotiation – “What’s Fair?”\nEmpathy in Negotiation – “How Do You See It?”\nIntegrative Bargaining in Negotiation – “What Else Could We Do?”
URL:https://kcdrc.org/event/core-part-a-conflict-resolution-skills/
LOCATION:Medical Dental Building\, 509 Olive Way\, Seattle\, WA\, 98101-1729\, United States
CATEGORIES:Learning
ATTACH;FMTTYPE=image/png:https://kcdrc.org/wp-content/uploads/2024/08/CoRE-Logo.png
END:VEVENT
BEGIN:VEVENT
DTSTART;TZID=America/Los_Angeles:20250916T090000
DTEND;TZID=America/Los_Angeles:20250918T180000
DTSTAMP:20260424T161015
CREATED:20250708T174808Z
LAST-MODIFIED:20250708T174841Z
UID:10000072-1758013200-1758218400@kcdrc.org
SUMMARY:CoRE™ Part B
DESCRIPTION:About CoRE™ \nWe designed CoRE™ to make conflict resolution training and services more relevant and accessible to everyone. We believe everyone has the capacity to strengthen their conflict resolution skills in everyday life. To shape this program\, we held listening sessions and focus groups with residents and organizations in South King County. Through these conversations\, we heard diverse perspectives from people of color and marginalized communities\, including LGBTQ+ individuals\, immigrants\, people who were formerly incarcerated\, and others.  \nPart B\nPart B will be held from 9/16/2025 to 9/18/2025 from 9am to 6pm. \nAfter completing Part A\, learners may join a 3-day facilitative mediation training with opportunities to apply and demonstrate skills from Part A\, while acting as a mediator in role-playing scenarios to support others in managing conflict. Completing both Parts A and B of CoRE™ will provide a 40-hour certificate that meets the objectives for a Basic Mediation Training (BMT). \nLearning mediation skills can help address conflicts between neighbors\, employees & employers\, consumers & businesses\, tenants & landlords\, plus a variety of interpersonal conflicts. \nWhether you want to become a formal mediator\, or to improve your skills of helping and working with others\, we think CoRE™ is for you! \nVisit our Learning Portal to sign up/join mailing list. \nRead more about CoRE™ here.
URL:https://kcdrc.org/event/core-part-b/
CATEGORIES:Learning
ATTACH;FMTTYPE=application/pdf:https://kcdrc.org/wp-content/uploads/2025/07/HOMES-event-size-2.pdf
END:VEVENT
BEGIN:VEVENT
DTSTART;TZID=America/Los_Angeles:20250908T100000
DTEND;TZID=America/Los_Angeles:20250912T134500
DTSTAMP:20260424T161015
CREATED:20250708T172003Z
LAST-MODIFIED:20250708T172313Z
UID:10000071-1757325600-1757684700@kcdrc.org
SUMMARY:CoRE™ Part A
DESCRIPTION:About CoRE™ \nWe designed CoRE™ to make conflict resolution training and services more relevant and accessible to everyone. We believe everyone has the capacity to strengthen their conflict resolution skills in everyday life. To shape this program\, we held listening sessions and focus groups with residents and organizations in South King County. Through these conversations\, we heard diverse perspectives from people of color and marginalized communities\, including LGBTQ+ individuals\, immigrants\, people who were formerly incarcerated\, and others.  \nPart A: \nConflict Resolution Skills: Learners may choose from any or all of the 10 sessions that introduce foundational skills for people to manage conflict independently and within their own communities. Part A will be held from September 8th\, 2025 to September 12th\, 2025 from 10am to 1:45pm (two sessions each day.) \n1. Careful Observation – “What Do I Notice?” \n2. Reflective Practice – “How Did I Do?” \n3. Giving and Receiving Feedback – “How Can We Help?” \n4. Intentional Listening – “What Did You Tell Me?” \n5. Conflict Styles – “How Do We Disagree?” \n6. Issue Identification – “What’s Our Problem?” \n7. Reframing – “What Does That Mean?” \n8. Distributive Bargaining in Negotiation – “What’s Fair?” \n9. Empathy in Negotiation – “How Do You See It?” \n10. Integrative Bargaining in Negotiation – “What Else Could We Do?” \n  \nVisit our Learning Portal to sign up/join mailing list. \nRead more about CoRE™ here.
URL:https://kcdrc.org/event/core-part-a/
CATEGORIES:Learning
ATTACH;FMTTYPE=application/pdf:https://kcdrc.org/wp-content/uploads/2025/07/HOMES-event-size-1.pdf
END:VEVENT
END:VCALENDAR